BEGIN:VCALENDAR
VERSION:2.0
PRODID:-//wp-events-plugin.com//7.2.3.1//EN
TZID:Europe/Amsterdam
X-WR-TIMEZONE:Europe/Amsterdam
BEGIN:VEVENT
UID:37217@agenda-zaanstreek.nl
DTSTART;TZID=Europe/Amsterdam:20250505T120000
DTEND;TZID=Europe/Amsterdam:20250505T210000
DTSTAMP:20250325T103511Z
URL:https://agenda-zaanstreek.nl/events/bevrijdingsfestival/
SUMMARY:Bevrijdingsfestival
DESCRIPTION:Bevrijdingsfestival\nMaandag 5 mei - 12:00 tot 21:00 uur\nGrati
 s toegang\n\nOp maandag 5 mei\, Bevrijdingsdag\, vieren we 80 jaar vrijhei
 d. Dat gaan we vieren op twee locaties: de Bullekerk in Zaandam en het Wil
 helminapark in Wormerveer.&nbsp\;\n\nHet programma is voor jong en oud: po
 ppentheater voor de kleinsten\, een opleidingsorkest uit Wormer\, theater\
 , toneel en veel muziek. Samen vieren wij de vrijheid en kijken we met tek
 st\, beeld en geluid terug op de bevrijding in Zaanstad.\n\nBullekerk Zaan
 dam\n12:00&nbsp\;&nbsp\;&nbsp\; Opening door burgemeester Jan Hamming\n12:
 00&nbsp\;&nbsp\;&nbsp\; Bonafied – set 1\n13:00&nbsp\;&nbsp\;&nbsp\; Dru
 kwerk\n14:30&nbsp\;&nbsp\;&nbsp\; Bonafied – set 2\n16:00&nbsp\;&nbsp\;&
 nbsp\; The Billy Joel Experience\n18:00&nbsp\;&nbsp\;&nbsp\; Hastalavista 
 – set 1\n19:30&nbsp\;&nbsp\;&nbsp\; Hastalavista – set 2\nPPG Paletkwa
 rtet: 14:15\, 15:30 en 17:30 uur\n\nDe opening wordt op beide locaties ger
 ealiseerd in samenwerking met lopers van AV Zaanland en Atletiekvereniging
  Lycurgus.\n\nHet Zaans Bevrijdingsfestival wordt georganiseerd door het C
 omité 4 en 5 mei Zaanstad in samenwerking met Cultureel Centrum&nbsp\;Bul
 lekerk\, het Wilhelminapark Wormerveer\, de Historische Vereniging Zaandam
  en de Historische Vereniging Wormerveer.&nbsp\;\n\nHet Festival is tot st
 and gekomen met steun van Gemeente Zaanstad
CATEGORIES:Evenement,Muziek
LOCATION:Cultureel Centrum Bullekerk (Westzijderkerk)\, Westzijde 75\, Zaan
 dam\, 1506 ED\, Nederland
X-APPLE-STRUCTURED-LOCATION;VALUE=URI;X-ADDRESS=Westzijde 75\, Zaandam\, 15
 06 ED\, Nederland;X-APPLE-RADIUS=100;X-TITLE=Cultureel Centrum Bullekerk (
 Westzijderkerk):geo:0,0
END:VEVENT
BEGIN:VTIMEZONE
TZID:Europe/Amsterdam
X-LIC-LOCATION:Europe/Amsterdam
BEGIN:DAYLIGHT
DTSTART:20250330T030000
TZOFFSETFROM:+0100
TZOFFSETTO:+0200
TZNAME:CEST
END:DAYLIGHT
END:VTIMEZONE
END:VCALENDAR