BEGIN:VCALENDAR
VERSION:2.0
PRODID:-//wp-events-plugin.com//7.2.3.1//EN
TZID:Europe/Amsterdam
X-WR-TIMEZONE:Europe/Amsterdam
BEGIN:VEVENT
UID:37882@agenda-zaanstreek.nl
DTSTART;TZID=Europe/Amsterdam:20250505T120000
DTEND;TZID=Europe/Amsterdam:20250505T170000
DTSTAMP:20250325T103659Z
URL:https://agenda-zaanstreek.nl/events/bevrijdingsfestival-in-het-wilhelm
 inapark-wormerveer/
SUMMARY:Bevrijdingsfestival in het Wilhelminapark Wormerveer
DESCRIPTION:Bevrijdingsfestival\nMaandag 5 mei - 12:00 tot 21:00 uur\nGrati
 s toegang\n\nOp maandag 5 mei\, Bevrijdingsdag\, vieren we 80 jaar vrijhei
 d. Dat gaan we vieren op twee locaties: de Bullekerk in Zaandam en het Wil
 helminapark in Wormerveer.&nbsp\;\n\nHet programma is voor jong en oud: po
 ppentheater voor de kleinsten\, een opleidingsorkest uit Wormer\, theater\
 , toneel en veel muziek. Samen vieren wij de vrijheid en kijken we met tek
 st\, beeld en geluid terug op de bevrijding in Zaanstad.\n\nWilhelminapark
  Wormerveer\n12:00&nbsp\;&nbsp\;&nbsp\; Opening door wethouder Stephanie O
 nclin mmv Slagwerkgroep De Saen\n12:15&nbsp\;&nbsp\;&nbsp\; Ratatouille\n1
 3:30&nbsp\;&nbsp\;&nbsp\; Margriet Eshuijs PopKoor\n14:45&nbsp\;&nbsp\;&nb
 sp\; Tim Knol\n16:00&nbsp\;&nbsp\;&nbsp\; Cocoa River\nToneelgroep WTG: 13
 :00\, 14:15 en 15:30 uur\nPoppentheater Potitco: Uilskuiken (2 t/m 6 jaar)
 : 13:00 en 14:15 uur
CATEGORIES:Muziek
LOCATION:Wilhelminapark Wormerveer\, Zaanweg 7\, Wormerveer\, 1521 DH\, Wor
 merveer\, Nederland
X-APPLE-STRUCTURED-LOCATION;VALUE=URI;X-ADDRESS=Zaanweg 7\, Wormerveer\, 15
 21 DH\, Wormerveer\, Nederland;X-APPLE-RADIUS=100;X-TITLE=Wilhelminapark W
 ormerveer:geo:0,0
END:VEVENT
BEGIN:VTIMEZONE
TZID:Europe/Amsterdam
X-LIC-LOCATION:Europe/Amsterdam
BEGIN:DAYLIGHT
DTSTART:20250330T030000
TZOFFSETFROM:+0100
TZOFFSETTO:+0200
TZNAME:CEST
END:DAYLIGHT
END:VTIMEZONE
END:VCALENDAR