BEGIN:VCALENDAR
VERSION:2.0
PRODID:-//wp-events-plugin.com//7.2.3.1//EN
TZID:Europe/Amsterdam
X-WR-TIMEZONE:Europe/Amsterdam
BEGIN:VEVENT
UID:39376@agenda-zaanstreek.nl
DTSTART;TZID=Europe/Amsterdam:20250706T103000
DTEND;TZID=Europe/Amsterdam:20250706T103000
DTSTAMP:20250626T102111Z
URL:https://agenda-zaanstreek.nl/events/betoverende-filmmuziek-in-de-matth
 eus/
SUMMARY:Betoverende Filmmuziek in de Mattheus
DESCRIPTION:\n\n\n\n\n\n\n\n\n\n\n\n\n&nbsp\;\n\n\n\n\nOp zondag 6 juli om 
 10:00 uur wordt de Mattheuskerk in Zaandam het decor voor een onvergetelij
 k concert op het Mattheuspodium. Onder leiding van de Ruud Luttikhuizen br
 engt een sextet een selectie van de mooiste filmmuziek ten gehore. Het pro
 gramma bevat werken van legendarische componisten als Einaudi\, Mancini\, 
 Nina Rota en Hans Zimmer\, die garant staan voor een wervelende en ontroer
 ende muzikale ervaring.\n\nDe musici\, bestaande uit Ruud Luttikhuizen\, R
 uud Kleiss\, Njola Ritzen\, Joep van Beijnum en Fred Snel\, zijn allen led
 en van het gerenommeerde CineMusic orkest. Hun gezamenlijke passie en virt
 uositeit beloven het publiek mee te nemen op een muzikale reis door de wer
 eld van de film.\n\nHet concert vindt plaats in de sfeervolle Mattheuskerk
 \, gelegen aan het Papenpad 13 in Zaandam. De entree is gratis\, zodat ied
 ereen de kans krijgt om van deze bijzondere voorstelling te genieten. Na a
 floop van het concert is er gelegenheid om een donatie te doen ter dekking
  van de onkosten.\n\nMis deze unieke kans niet om te genieten van een ocht
 end vol prachtige filmmuziek en laat u meevoeren door de betoverende klank
 en van dit getalenteerde sextet. We hopen u te mogen verwelkomen op het Ma
 ttheuspodium!\n\n\n\n\n\n\n\n\n
CATEGORIES:Muziek
LOCATION:MuziekHaven\, Papenpad 13\, Zaandam\, 1506 GR\, Nederland
X-APPLE-STRUCTURED-LOCATION;VALUE=URI;X-ADDRESS=Papenpad 13\, Zaandam\, 150
 6 GR\, Nederland;X-APPLE-RADIUS=100;X-TITLE=MuziekHaven:geo:0,0
END:VEVENT
BEGIN:VTIMEZONE
TZID:Europe/Amsterdam
X-LIC-LOCATION:Europe/Amsterdam
BEGIN:DAYLIGHT
DTSTART:20250330T030000
TZOFFSETFROM:+0100
TZOFFSETTO:+0200
TZNAME:CEST
END:DAYLIGHT
END:VTIMEZONE
END:VCALENDAR