BEGIN:VCALENDAR
VERSION:2.0
PRODID:-//wp-events-plugin.com//7.2.3.1//EN
TZID:Europe/Amsterdam
X-WR-TIMEZONE:Europe/Amsterdam
BEGIN:VEVENT
UID:36494@agenda-zaanstreek.nl
DTSTART;TZID=Europe/Amsterdam:20250227T200000
DTEND;TZID=Europe/Amsterdam:20250227T200000
DTSTAMP:20241219T104007Z
URL:https://agenda-zaanstreek.nl/events/bert-visscher-dat-zie-je-een-ander
 -niet-doen-uitverkocht/
SUMMARY:Bert Visscher - Dat zie je een ander niet doen - Uitverkocht
DESCRIPTION:\n\n\nMet 42 jaar theater in zijn hoofd komt Bert Visscher weer
  eens langs in het theater. Misschien wel\, zoals hij zelf zegt\, voor de 
 laatste keer. Hij is ook geen 60 meer. Tijd om eens het verleden in te dui
 ken. Van Barbie Ken tot bloemschikken en van de klushoek (incl. helm!) tot
  de stotterende man van motorclub No Calender. Genoeg klassiekers en nieuw
  idioterie die het theater weer volledig op zijn kop zullen zetten.&nbsp\;
 \n\n\n\n\n\n\n"Waar was je nou Visscher ? Ja sorry hoor!\nMoest even door 
 een pandemie en een winterslaap heen.\nEn dan toch weer het podium op? Nat
 uurlijk\, ik\nlaat u toch niet in de steek om vervolgens geruisloos\nricht
 ing Geraniums en Bingo te rollen."\n\n\nLees meer\n\n\n\n\nPrijzen\n\n\n\n
 \n\nExtra informatie:\n\n\n\n\n\ndo27 feb 202520.00Albert Heijnzaal\nrepri
 seUitverkocht\n\n
CATEGORIES:Cabaret
LOCATION:Zaantheater\, Nicolaasstraat 3\, Zaandam\, 1506 BB\, Nederland
X-APPLE-STRUCTURED-LOCATION;VALUE=URI;X-ADDRESS=Nicolaasstraat 3\, Zaandam\
 , 1506 BB\, Nederland;X-APPLE-RADIUS=100;X-TITLE=Zaantheater:geo:0,0
END:VEVENT
BEGIN:VTIMEZONE
TZID:Europe/Amsterdam
X-LIC-LOCATION:Europe/Amsterdam
BEGIN:STANDARD
DTSTART:20241027T020000
TZOFFSETFROM:+0200
TZOFFSETTO:+0100
TZNAME:CET
END:STANDARD
END:VTIMEZONE
END:VCALENDAR