BEGIN:VCALENDAR
VERSION:2.0
PRODID:-//wp-events-plugin.com//7.2.3.1//EN
TZID:Europe/Amsterdam
X-WR-TIMEZONE:Europe/Amsterdam
BEGIN:VEVENT
UID:33888@agenda-zaanstreek.nl
DTSTART;TZID=Europe/Amsterdam:20241109T130000
DTEND;TZID=Europe/Amsterdam:20241110T170000
DTSTAMP:20240718T095516Z
URL:https://agenda-zaanstreek.nl/events/bert-en-nanda-oldenburg/
SUMMARY:Bert en Nanda Oldenburg
DESCRIPTION:\n\n&nbsp\;9|10|NOV|2024\n\n\n\n\nNanda won met haar beeldje Za
 ans Faam de publieksprijs tijdens&nbsp\;T*Art. Zodoende mag zij nu een eig
 en expositie inrichten. Ze koos er voor om dit samen met fotograaf Bert Ol
 denburg te doen.\n\nNanda\, met haar behendige handen tovert klei om tot u
 nieke keramische creaties. Bert\, met zijn scherpe blik vereeuwigt de mens
 elijke vorm in naakte glorie. Ondanks hun verschillende disciplines\, voed
 t hun liefde voor kunst hun onderlinge band en inspireert tot onverwachte 
 symbiose.\n\n\nAls tandtechnicus werkt&nbsp\;Nanda Oldenburg&nbsp\;met por
 selein\, maar in haar vrije tijd leeft ze zich uit met klei. De klei geeft
  haar de vrijheid om zichzelf uit te drukken. Al dertig jaar&nbsp\;&gt\;&g
 t\;&gt\; Lees meer &lt\;&lt\;&lt\;\n\n\n\nNanda en Bert Oldenburg exposere
 n bij Zaansgroen op zaterdag 9 en zondag 10 november van 10.00 tot 17.00 u
 ur – vrij entree.\n\n
CATEGORIES:Expositie
LOCATION:Zaans Groen\, Zeemansstraat 54\, Zaandam\, 1506 CV\, Nederland
X-APPLE-STRUCTURED-LOCATION;VALUE=URI;X-ADDRESS=Zeemansstraat 54\, Zaandam\
 , 1506 CV\, Nederland;X-APPLE-RADIUS=100;X-TITLE=Zaans Groen:geo:0,0
END:VEVENT
BEGIN:VTIMEZONE
TZID:Europe/Amsterdam
X-LIC-LOCATION:Europe/Amsterdam
BEGIN:STANDARD
DTSTART:20241027T020000
TZOFFSETFROM:+0200
TZOFFSETTO:+0100
TZNAME:CET
END:STANDARD
END:VTIMEZONE
END:VCALENDAR