BEGIN:VCALENDAR
VERSION:2.0
PRODID:-//wp-events-plugin.com//7.2.3.1//EN
TZID:Europe/Amsterdam
X-WR-TIMEZONE:Europe/Amsterdam
BEGIN:VEVENT
UID:37323@agenda-zaanstreek.nl
DTSTART;TZID=Europe/Amsterdam:20250302T143000
DTEND;TZID=Europe/Amsterdam:20250302T143000
DTSTAMP:20250213T101356Z
URL:https://agenda-zaanstreek.nl/events/benefietlezing-boswachter-arjan-po
 stma-bij-molen-het-klaverblad/
SUMMARY:Benefietlezing boswachter Arjan Postma bij molen Het Klaverblad
DESCRIPTION:\nArjan Postma\, Nederlands bekendste boswachter\, geeft op 2 m
 aart een benefietlezing op de Zaanse Schans. Hij zal het nodige vertellen 
 over het veenweidegebied (zoals de Kalverpolder) en veranderingen van dit 
 gebied.\n\n\n\n\nArjan Postma\, Nederlands bekendste boswachter\, geeft op
  2 maart een benefietlezing op de Zaanse Schans.&nbsp\;(Foto: aangeleverd)
 \n\n&nbsp\;\nHet initiatief voor dit evenement is genomen door het team va
 n molen Het Klaverblad. Deze kleine houtzaagmolen is gebouwd door Ru Pos e
 n zijn familie en vrienden en is de enige werkende particuliere molen aan 
 de Kalverringdijk. Voor de bekostiging van het onderhoud dient stichting M
 olen het Klaverblad zelf zorg te dragen. Het werven van gelden gebeurt op 
 allerlei manieren\, zo ook het organiseren van evenementen.\nSteuntje in d
 e rug welkom\nZodoende is Arjan benaderd\, uit bewondering voor zijn kenni
 s en vertelstijl. Ook speelde de liefde voor de natuur in de eeuwenoude po
 lder een rol. Toen Arjan aanbood om de lezing gratis te komen geven\, is g
 elijk besloten de opbrengst te delen met stichting Kalverpolder\, die per 
 slot van rekening dit prachtige natuurgebied onderhoudt. Dit gebeurt allem
 aal door vrijwilligers\, een steuntje in de rug is dus meer dan welkom.\nT
 ickets\nDe lezing zal plaatsvinden in loods 4 van Het Klaverblad\, Kalverr
 ingdijk 37. Aanvang 14.30 uur\, entreeprijs €12\,50 inclusief welkomstdr
 ankje (koffie\, thee of chocolademelk). Na afloop is er gelegenheid om na 
 te praten onder het genot van een lokaal drankje en hapje\; ook aan de ste
 un voor de lokale ondernemers wordt gedacht.\n\n
CATEGORIES:Lezing
LOCATION:Molen Het Klaverblad\, Kalverringdijk 37\, Zaandam\, 1509 BT\, Ned
 erland
X-APPLE-STRUCTURED-LOCATION;VALUE=URI;X-ADDRESS=Kalverringdijk 37\, Zaandam
 \, 1509 BT\, Nederland;X-APPLE-RADIUS=100;X-TITLE=Molen Het Klaverblad:geo
 :0,0
END:VEVENT
BEGIN:VTIMEZONE
TZID:Europe/Amsterdam
X-LIC-LOCATION:Europe/Amsterdam
BEGIN:STANDARD
DTSTART:20241027T020000
TZOFFSETFROM:+0200
TZOFFSETTO:+0100
TZNAME:CET
END:STANDARD
END:VTIMEZONE
END:VCALENDAR