BEGIN:VCALENDAR
VERSION:2.0
PRODID:-//wp-events-plugin.com//7.2.3.1//EN
TZID:Europe/Amsterdam
X-WR-TIMEZONE:Europe/Amsterdam
BEGIN:VEVENT
UID:35687@agenda-zaanstreek.nl
DTSTART;TZID=Europe/Amsterdam:20241123T100000
DTEND;TZID=Europe/Amsterdam:20241123T160000
DTSTAMP:20241111T104333Z
URL:https://agenda-zaanstreek.nl/events/benefiet-rommelmarkt-scouting-koog
 -zaandijk/
SUMMARY:Benefiet rommelmarkt Scouting Koog-Zaandijk
DESCRIPTION:\n\n
CATEGORIES:Markt Braderie
LOCATION:Scouting Koog-Zaandijk\, Zuiderzoom 84\, Koog aan de Zaan\, 1541 N
 Z\, Nederland
X-APPLE-STRUCTURED-LOCATION;VALUE=URI;X-ADDRESS=Zuiderzoom 84\, Koog aan de
  Zaan\, 1541 NZ\, Nederland;X-APPLE-RADIUS=100;X-TITLE=Scouting Koog-Zaand
 ijk:geo:0,0
END:VEVENT
BEGIN:VTIMEZONE
TZID:Europe/Amsterdam
X-LIC-LOCATION:Europe/Amsterdam
BEGIN:STANDARD
DTSTART:20241027T020000
TZOFFSETFROM:+0200
TZOFFSETTO:+0100
TZNAME:CET
END:STANDARD
END:VTIMEZONE
END:VCALENDAR