BEGIN:VCALENDAR
VERSION:2.0
PRODID:-//wp-events-plugin.com//7.2.3.1//EN
TZID:Europe/Amsterdam
X-WR-TIMEZONE:Europe/Amsterdam
BEGIN:VEVENT
UID:33878@agenda-zaanstreek.nl
DTSTART;TZID=Europe/Amsterdam:20241123T200000
DTEND;TZID=Europe/Amsterdam:20241123T200000
DTSTAMP:20241107T110740Z
URL:https://agenda-zaanstreek.nl/events/bc-operette-brengt-la-perichole-in
 -de-kunstgreep/
SUMMARY:BC operette brengt La Perichole in De KunstGreep
DESCRIPTION:VRIJDAG 22 NOVEMBER ZATERDAG 20.00 UUR ZONDAG 14.00 UUR - ZONDA
 G 1 DECEMBER\nbelcanto-oostzaan.jimdo.com/operette/la-p%C3%A9richole-2024\
 n\n\n\n\n\n\n&nbsp\;\n\n\n\n\n\n\nPrijs: € 20.00\nKoop tickets hier.\n\n
 \n&nbsp\;In de Peruviaanse hoofdstad Lima viert het volk feest. Het is de 
 verjaardag van de Spaanse onderkoning\, Don Andres de Ribeira.\nIedereen v
 iert feest\, behalve de beeldschone straatzangeres Perricholi en haar geli
 efde\, Piquillo. Ze doen hun uiterste best om geld op te halen met hun pra
 chtige duetten\, maar veel geld halen ze niet op.\nDe vermoeide Perricholi
  besluit een poosje uit te rusten\, terwijl Piquillo er op uit gaat om te 
 proberen nog wat geld te verdienen.\nDon Andres stuit op de slapende Perri
 choli en wordt op slag verliefd op haar.\nDe Spaanse onderkoning besluit d
 at hij haar tot 'hofdame' wil bombarderen\, de vermoeide en hongerige Perr
 icholi stemt hiermee in.\n\nEchter is er één probleempje\, alleen gehuwd
 e dames mogen als hofdame fungeren.\n\nzaterdag 23 november 2024&nbsp\;- 2
 0.00 uur première\nzondag 24 november 2024&nbsp\;- 14.00 uur matinee\n\nz
 aterdag 30 november 2024&nbsp\;- 20.00 uur voorstelling\nzondag&nbsp\;1&nb
 sp\;december 2024&nbsp\;- 14.00 uur matinee\n\n
CATEGORIES:Muziek
LOCATION:De KunstGreep\, Kerkbuurt 4\, Oostzaan\, 1511 BD\, Nederland
X-APPLE-STRUCTURED-LOCATION;VALUE=URI;X-ADDRESS=Kerkbuurt 4\, Oostzaan\, 15
 11 BD\, Nederland;X-APPLE-RADIUS=100;X-TITLE=De KunstGreep:geo:0,0
END:VEVENT
BEGIN:VTIMEZONE
TZID:Europe/Amsterdam
X-LIC-LOCATION:Europe/Amsterdam
BEGIN:STANDARD
DTSTART:20241027T020000
TZOFFSETFROM:+0200
TZOFFSETTO:+0100
TZNAME:CET
END:STANDARD
END:VTIMEZONE
END:VCALENDAR