BEGIN:VCALENDAR
VERSION:2.0
PRODID:-//wp-events-plugin.com//7.2.3.1//EN
TZID:Europe/Amsterdam
X-WR-TIMEZONE:Europe/Amsterdam
BEGIN:VEVENT
UID:36871@agenda-zaanstreek.nl
DTSTART;TZID=Europe/Amsterdam:20250314T203000
DTEND;TZID=Europe/Amsterdam:20250314T203000
DTSTAMP:20250116T112756Z
URL:https://agenda-zaanstreek.nl/events/bandbreedte-inferum-arising-rebell
 ion-reformist/
SUMMARY:BANDBREEDTE: Inferum\, Arising Rebellion & Reformist
DESCRIPTION:\n\n\nVan bands tot singer-songwriters en DJ’s\, jong en oud\
 , bij BANDBREEDTE kan het alle kanten op! Wat ze gemeen hebben? ZAANSE roo
 ts!&nbsp\;Met deze keer een heuse metal edition. Maak je klaar voor Inferu
 m\, Arising Rebellion en Reformist!\n\n\n\n\nIn de BANDBREEDTE\nWij krijge
 n dagelijks veel speelverzoeken\, meer dan dat er podium te vergeven is. M
 aar als poppodium vinden wij het juist heel belangrijk om een podium te bi
 eden en talent een kans te geven. Wil jij optreden in DE FLUX? Meld je dan
  aan voor BANDBREEDTE! Iedere maand is er een nieuwe ronde\, waarbij we op
  basis van alle aanmeldingen&nbsp\;een goede line-up proberen samen te ste
 llen. Meer informatie en het aanmeldformulier vind je&nbsp\;hier.\n&nbsp\;
 \nInferum\n\n&nbsp\;\nAls de apocalyps een soundtrack had\, dan zou het de
  discografie van Inferum zijn\; met zowel ritmische als hypnotiserende dru
 mpatronen\, verwoestende gitaarrifs\, beklemmende sferen en gruwelijke voc
 als creëren ze een atmosfeer als geen ander. Voeg daar een snoeiharde liv
 eshow aan toe\, en introspectieve teksten die de kilheid van onze realitei
 t verkennen. Inferum zal een diepgewortelde en blijvende impressie achterl
 aten.\n\nIn 2017 hebben ze de velden van Wacken al plat gespeeld toen ze g
 emiddeld 19 jaar oud waren\, en werd er verwacht dat Inferum één van de 
 grootste talenten in de Nederlandse metal scene zou zijn. Nu zijn ze van p
 lan om die verwachting te overstijgen.\n\nArising Rebellion\n\n&nbsp\;\nIn
  2013 begon gitarist Hans Bijland met het soloproject Arising Rebellion. H
 et idee om muziek te maken die zowel zwaar als ritmisch is\, vormde de bas
 is. Door persoonlijke omstandigheden werd het project tijdelijk gepauzeerd
 \, maar in 2022 kreeg Arising Rebellion een nieuwe impuls en evolueerde he
 t naar een volwaardige band. Hans voegde drummer Lorenzo en zanger Enzo to
 e aan de line-up\, waarmee de fundamenten van de band werden gelegd. Niet 
 lang daarna sloten bassist Marijn en gitarist Alexander zich aan\, waarmee
  de huidige line-up compleet werd.\n\nDe officiële live-debuutshow van Ar
 ising Rebellion vond plaats tijdens NH MetalFest IV in april 2024. Sindsdi
 en heeft de band zich verankerd in de metalscene met hun energieke optrede
 ns en krachtige muziekstijl. De band combineert invloeden van iconische gr
 oove metalbands zoals Lamb of God\, Pantera en DevilDriver\, met een moder
 ne en persoonlijke twist.\n\nReformist\nDe metalformatie REFORMIST brengt 
 je een moderne mix van metal met pakkende en groovende riffs\, melodieën 
 en vocalen.\n\n\n\n\n\n\n\nTickets\n\n\n\n\n\nVoorverkoop € 7\,50\nDeur 
 € 10\,-\n\n\n\n\n\n\n\nTickets\n\n\n&nbsp\;\n\n\n
CATEGORIES:Muziek
LOCATION:Podium De Flux\, Hemkade 48\, Zaandam\, 1506 PS\, Nederland
X-APPLE-STRUCTURED-LOCATION;VALUE=URI;X-ADDRESS=Hemkade 48\, Zaandam\, 1506
  PS\, Nederland;X-APPLE-RADIUS=100;X-TITLE=Podium De Flux:geo:0,0
END:VEVENT
BEGIN:VTIMEZONE
TZID:Europe/Amsterdam
X-LIC-LOCATION:Europe/Amsterdam
BEGIN:STANDARD
DTSTART:20241027T020000
TZOFFSETFROM:+0200
TZOFFSETTO:+0100
TZNAME:CET
END:STANDARD
END:VTIMEZONE
END:VCALENDAR