BEGIN:VCALENDAR
VERSION:2.0
PRODID:-//wp-events-plugin.com//7.2.3.1//EN
TZID:Europe/Amsterdam
X-WR-TIMEZONE:Europe/Amsterdam
BEGIN:VEVENT
UID:36870@agenda-zaanstreek.nl
DTSTART;TZID=Europe/Amsterdam:20250228T203000
DTEND;TZID=Europe/Amsterdam:20250228T203000
DTSTAMP:20250116T112556Z
URL:https://agenda-zaanstreek.nl/events/bandbreedte-bouillon-tupperwr3-lau
 ra-palmer/
SUMMARY:BANDBREEDTE: BOUILLON\, TUPPERWR3 & Laura Palmer
DESCRIPTION:\n\n\nVan bands tot singer-songwriters en DJ’s\, jong en oud\
 , bij BANDBREEDTE kan het alle kanten op! Wat ze gemeen hebben? ZAANSE roo
 ts!&nbsp\;Met deze maand BOUILLON!\, TUPPERWR3 &amp\; Laura Palmer.\n\n\n\
 n\nIn de BANDBREEDTE\nWij krijgen dagelijks veel speelverzoeken\, meer dan
  dat er podium te vergeven is. Maar als poppodium vinden wij het juist hee
 l belangrijk om een podium te bieden en talent een kans te geven. Wil jij 
 optreden in DE FLUX? Meld je dan aan voor BANDBREEDTE! Iedere maand is er 
 een nieuwe ronde\, waarbij we op basis van alle aanmeldingen&nbsp\;een goe
 de line-up proberen samen te stellen. Meer informatie en het aanmeldformul
 ier vind je&nbsp\;hier.\n&nbsp\;\nBOUILLON!\n\nBOUILLON! is inmiddels meer
  dan 20 jaar de waterige lijm die de Zaanse muziekscene bij elkaar houdt. 
 Hoewel eerder werd gedacht dat het afscheidsoptreden op de pier van Ijmuid
 en\, hetgeen nog nooit door een andere band gedaan was – het laatste opt
 reden was\, brengt het powertrio nu fans van het eerste uur en de nieuwe l
 ichting fans bij elkaar met een mix van oude en nieuwe klassiekers. Met st
 ijlen variërend van tranentrekkende blues tot uitmuntende psychedelica to
 t keiharde stampende rock blijft BOUILLON! fascineren\, inspireren en over
 drivend veelbelovend!\n&nbsp\;\nTUPPERWR3\n\n&nbsp\;\nTUPPERWR3 is opgeric
 ht in 2019 en maakt eigenzinnige\, meerstemmige liedjes in het Nederlands\
 , over de vervreemding van het vertrouwde en het absurde van het alledaags
 e. Ze debuteerden in 2021 met de LP ‘De muze van de puntmassa’ en afge
 lopen oktober verscheen hun nieuwste EP ‘Omsingeld’\, waarop een parad
 oxaal beeld wordt geschetst van een kolkende maatschappij waarin taalversi
 mpeling en hokjesdenken politieke instrumenten zijn geworden.\n\nTUPPERWR3
  is:\nMavah Dansrijk (zang\, drums\, synths)\, Bas Rijmtuin (zang\, gitaar
 ) en Jeff Woesthoom (zang\, basgitaar\, synths).\n\nLaura Palmer\n\n&nbsp\
 ;\nHet Nederlandse Laura Palmer is een illuster\, vierkoppig gezelschap da
 t shoegaze omarmt met een snuifje aan moderne experimenten. Balancerend tu
 ssen experimentele new wave en gruizige noise-drone bloeit hun muziek op d
 oor schurende melodieën\, verheven drones en dromerige soundscapes.\n\nLa
 ura Palmer is: Annika Boxhoorn (bas)\, Remco Cornelissen (drums)\, Rob Huu
 rman (gitaar) en Rob Kanters (zang &amp\; gitaar)\n\n\n\n\n\n\n\nAanvullen
 de details\n\n\n\n\n\nTickets\nVoorverkoop € 7\,50\nDeur € 10\,-\n\n\n
 \n\n\n\n\nTickets\n\n\n&nbsp\;\n&nbsp\;\n\n\n
CATEGORIES:Muziek
LOCATION:Podium De Flux\, Hemkade 48\, Zaandam\, 1506 PS\, Nederland
X-APPLE-STRUCTURED-LOCATION;VALUE=URI;X-ADDRESS=Hemkade 48\, Zaandam\, 1506
  PS\, Nederland;X-APPLE-RADIUS=100;X-TITLE=Podium De Flux:geo:0,0
END:VEVENT
BEGIN:VTIMEZONE
TZID:Europe/Amsterdam
X-LIC-LOCATION:Europe/Amsterdam
BEGIN:STANDARD
DTSTART:20241027T020000
TZOFFSETFROM:+0200
TZOFFSETTO:+0100
TZNAME:CET
END:STANDARD
END:VTIMEZONE
END:VCALENDAR