BEGIN:VCALENDAR
VERSION:2.0
PRODID:-//wp-events-plugin.com//7.2.3.1//EN
TZID:Europe/Amsterdam
X-WR-TIMEZONE:Europe/Amsterdam
BEGIN:VEVENT
UID:40908@agenda-zaanstreek.nl
DTSTART;TZID=Europe/Amsterdam:20251230T150000
DTEND;TZID=Europe/Amsterdam:20251230T150000
DTSTAMP:20251218T102653Z
URL:https://agenda-zaanstreek.nl/events/bambi-3-theater-terra/
SUMMARY:Bambi (3+) - Theater Terra
DESCRIPTION:\n\n\n\n\n\ndi 30 dec 202515.00\nAlbert Heijnzaal\n€15\,25 - 
 €28\,25\nJeugd &amp\; Familie\n\nFavoriet\nBestel\n\n\n\n\n\n\n\n\n 	&nb
 sp\;\n 	Theater\n 	Agenda\n 	Seizoen 2025-2026\n 	Bambi (3+)\n\n\n\n\n\n\n
 \n\n 	Jeugd &amp\; Familie\n\n\n\n\nBambi&nbsp\;is geïnspireerd op het bo
 ek&nbsp\;Bambi: een leven in het Bos&nbsp\;van Felix Salten over het jonge
  hertje dat opgroeit in het bos. Laat je betoveren door een verhaal over v
 riendschap en liefde.\n\n"Bambi" is een hartverwarmend verhaal over een jo
 ng hertje dat opgroeit in het bos. Hij leert van zijn moeder over het leve
 n in de natuur en ontdekt het bos op zijn eigen manier. Hij ontmoet vele a
 ndere diertjes\, waarmee hij al snel vrienden wordt.\n\n\n\n\n
CATEGORIES:Jeugd,Jeugd en Familie
LOCATION:Zaantheater\, Nicolaasstraat 3\, Zaandam\, 1506 BB\, Nederland
X-APPLE-STRUCTURED-LOCATION;VALUE=URI;X-ADDRESS=Nicolaasstraat 3\, Zaandam\
 , 1506 BB\, Nederland;X-APPLE-RADIUS=100;X-TITLE=Zaantheater:geo:0,0
END:VEVENT
BEGIN:VTIMEZONE
TZID:Europe/Amsterdam
X-LIC-LOCATION:Europe/Amsterdam
BEGIN:STANDARD
DTSTART:20251026T020000
TZOFFSETFROM:+0200
TZOFFSETTO:+0100
TZNAME:CET
END:STANDARD
END:VTIMEZONE
END:VCALENDAR