BEGIN:VCALENDAR
VERSION:2.0
PRODID:-//wp-events-plugin.com//7.2.3.1//EN
TZID:Europe/Amsterdam
X-WR-TIMEZONE:Europe/Amsterdam
BEGIN:VEVENT
UID:40883@agenda-zaanstreek.nl
DTSTART;TZID=Europe/Amsterdam:20251221T150000
DTEND;TZID=Europe/Amsterdam:20251221T150000
DTSTAMP:20251211T113215Z
URL:https://agenda-zaanstreek.nl/events/ballet-van-de-staatsopera-bulgarij
 e-stara-zagora-de-notenkraker/
SUMMARY:Ballet van de Staatsopera Bulgarije Stara Zagora - De Notenkraker
DESCRIPTION:\n\n\n\n\n\nzo 21 dec 202515.00\nAlbert Heijnzaal\n€28\,25 - 
 €58\,05\nDans\, Jeugd &amp\; Familie\n\nFavoriet\nBestel\n\n\n\n\n\n&nbs
 p\;\n\n\n\n\n\nStel je voor: het is kerstavond en bij de familie Stahlbaum
  is het tijd voor cadeaus. Clara krijgt van haar peetvader een prachtige n
 otenkrakerpop. ’s Nachts verandert de pop in een knappe prins\, die Clar
 a meeneemt naar een avontuurlijke sprookjeswereld. Samen met een leger tin
 nen soldaatjes trekken ze ten strijde tegen de valse muizenkoning en reize
 n ze verder langs onder meer het mierzoete Snoepgoedrijk.\n\n\n\n\n\n\n\nA
 vond uit met het hele gezin\nHet klassiek-romantische ballet ‘De Notenkr
 aker’ is adembenemend en een feest voor het hele gezin. Jong en oud geni
 eten van het prachtige decor\, de schitterende kostuums en de wonderlijke 
 danspassen. Dit prachtige ballet van Tjaikovski brengt iedereen in de kers
 tstemming.\n\nGrootse uitvoering\nHet ballet in twee bedrijven werd voor h
 et eerst in december 1892 in het Mariinsky Theater in Sint Petersburg opge
 voerd. Vandaag de dag is het nog steeds één van de meest populaire balle
 tten ter wereld\, dankzij de betoverende muziek en magische choreografie. 
 Dat geldt zeker voor de uitvoering door de Bulgaarse Staatsopera van Stara
  Zagora: met een groep van 42 dansers wordt niets aan het toeval overgelat
 en. De prachtige muziek van Tsjaikovski\, gespeeld door een symfonisch ork
 est\, is de kers op de taart.\n\n\n\n\n\n\n
CATEGORIES:Dans
LOCATION:Zaantheater\, Nicolaasstraat 3\, Zaandam\, 1506 BB\, Nederland
X-APPLE-STRUCTURED-LOCATION;VALUE=URI;X-ADDRESS=Nicolaasstraat 3\, Zaandam\
 , 1506 BB\, Nederland;X-APPLE-RADIUS=100;X-TITLE=Zaantheater:geo:0,0
END:VEVENT
BEGIN:VTIMEZONE
TZID:Europe/Amsterdam
X-LIC-LOCATION:Europe/Amsterdam
BEGIN:STANDARD
DTSTART:20251026T020000
TZOFFSETFROM:+0200
TZOFFSETTO:+0100
TZNAME:CET
END:STANDARD
END:VTIMEZONE
END:VCALENDAR