BEGIN:VCALENDAR
VERSION:2.0
PRODID:-//wp-events-plugin.com//7.2.3.1//EN
TZID:Europe/Amsterdam
X-WR-TIMEZONE:Europe/Amsterdam
BEGIN:VEVENT
UID:36874@agenda-zaanstreek.nl
DTSTART;TZID=Europe/Amsterdam:20250228T200000
DTEND;TZID=Europe/Amsterdam:20250228T234500
DTSTAMP:20250118T131949Z
URL:https://agenda-zaanstreek.nl/events/back-to-the-70s-and-80s-met-dj-den
 iece/
SUMMARY:Back to the 70’s and 80’s met dj Deniece
DESCRIPTION:\n\n\n\n\n\n\n\n\n\n\n\n\n\n\n\n\n\n\n\n\n\n\n\n\nWil jij gezel
 lig uitgaan en dansen op de beste en leukste 70’s &amp\; 80’s hits? Ko
 m dan op vrijdag 28 februari naar de Bull.\n\nGing jij vroeger ook los op 
 disco knallers zoals Boogie Wonderland\, Relight My Fire\, Dancing Queen e
 n Billie Jean? Stond jij vroeger ook voor de spiegel mee te zingen met Mad
 onna\, Cyndi Lauper\, ABBA of Whitney Houston? Was jij die 80’s rockster
  die stond te springen op Van Halen\, Bon Jovi of KISS? Kan jij alle numme
 rs mee zingen van Andre Hazes\, Rob de Nijs of Anita Meyer? Stond jij tot 
 laat in de nacht te dansen op Kool and the Gang? Kan jij één van deze vr
 agen met JA beantwoorden dan moet je hier bij zijn!\n\nDJ Deniece neemt je
  mee terug naar de 70’s &amp\; 80’s! Terug naar de tijd toen er nog ge
 en TikTok\, Facebook en Thuisbezorgd was. De tijd dat er nog muziek op TV 
 was\; TopPop\, Veronica Countdown. Ze draait de vergeten nummers die metee
 n weer herinneringen oproepen\, de classics waar je nooit op stil kunt bli
 jven staan.\n\nDeniece weet als geen ander de dansvloer in beweging te kri
 jgen met haar mix van vergeten pareltjes en tijdloze hits.\n\nAanvang: 20.
 00 uur\nEinde: 24.00 uur\n\nTickets:\nVoorverkoop € 9\,00 (+ € 2\,00 r
 eserveringskosten)\nTickets aan de deur € 11\,00\n\nVoor deze avond geld
 t een minimum leeftijd van 21 jaar.\n\n\n\n\n\n\n\n\n\n\n\nKoop tickets\n\
 n\n\n\n\n\n&nbsp\;\n\n\n\n\n\n\n\n\n\n 	\n\n&nbsp\;\n\n\n\n\n\n\n\n\n\n
CATEGORIES:Muziek
LOCATION:Cultureel Centrum Bullekerk (Westzijderkerk)\, Westzijde 75\, Zaan
 dam\, 1506 ED\, Nederland
X-APPLE-STRUCTURED-LOCATION;VALUE=URI;X-ADDRESS=Westzijde 75\, Zaandam\, 15
 06 ED\, Nederland;X-APPLE-RADIUS=100;X-TITLE=Cultureel Centrum Bullekerk (
 Westzijderkerk):geo:0,0
END:VEVENT
BEGIN:VTIMEZONE
TZID:Europe/Amsterdam
X-LIC-LOCATION:Europe/Amsterdam
BEGIN:STANDARD
DTSTART:20241027T020000
TZOFFSETFROM:+0200
TZOFFSETTO:+0100
TZNAME:CET
END:STANDARD
END:VTIMEZONE
END:VCALENDAR