BEGIN:VCALENDAR
VERSION:2.0
PRODID:-//wp-events-plugin.com//7.2.3.1//EN
TZID:Europe/Amsterdam
X-WR-TIMEZONE:Europe/Amsterdam
BEGIN:VEVENT
UID:39861@agenda-zaanstreek.nl
DTSTART;TZID=Europe/Amsterdam:20250911T170000
DTEND;TZID=Europe/Amsterdam:20250911T210000
DTSTAMP:20250807T080305Z
URL:https://agenda-zaanstreek.nl/events/back-to-business-bbq-borrel-bij-de
 -corner/
SUMMARY:Back to Business BBQ & Borrel bij De Corner
DESCRIPTION:Bij de Zaanse Ondernemers Sociëteit De Corner begint het nieuw
 e zakenseizoen met de Back to Business BBQ &amp\; Borrel.\nDit sprankelend
  nazomerevenement voor Zaanse ondernemers vindt plaats op donderdag 11 sep
 tember bij cultureel centrum De Bull\, Westzijde 75 in Zaandam.\nMeer info
  Digitale editie Zaanstad 7 augustus 2025
CATEGORIES:Commercieel
LOCATION:Cultureel Centrum Bullekerk (Westzijderkerk)\, Westzijde 75\, Zaan
 dam\, 1506 ED\, Nederland
X-APPLE-STRUCTURED-LOCATION;VALUE=URI;X-ADDRESS=Westzijde 75\, Zaandam\, 15
 06 ED\, Nederland;X-APPLE-RADIUS=100;X-TITLE=Cultureel Centrum Bullekerk (
 Westzijderkerk):geo:0,0
END:VEVENT
BEGIN:VTIMEZONE
TZID:Europe/Amsterdam
X-LIC-LOCATION:Europe/Amsterdam
BEGIN:DAYLIGHT
DTSTART:20250330T030000
TZOFFSETFROM:+0100
TZOFFSETTO:+0200
TZNAME:CEST
END:DAYLIGHT
END:VTIMEZONE
END:VCALENDAR