BEGIN:VCALENDAR
VERSION:2.0
PRODID:-//wp-events-plugin.com//7.2.3.1//EN
TZID:Europe/Amsterdam
X-WR-TIMEZONE:Europe/Amsterdam
BEGIN:VEVENT
UID:37675@agenda-zaanstreek.nl
DTSTART;TZID=Europe/Amsterdam:20250613T000000
DTEND;TZID=Europe/Amsterdam:20250614T000000
DTSTAMP:20250522T074340Z
URL:https://agenda-zaanstreek.nl/events/babbels-live-festival/
SUMMARY:Babbels Live Festival
DESCRIPTION:www.babbelslive.nl&nbsp\;\n\n
CATEGORIES:Muziek
LOCATION:Festivalterrein Assendelft\, Omweg\, Assendelft\, Nederland
X-APPLE-STRUCTURED-LOCATION;VALUE=URI;X-ADDRESS=Omweg\, Assendelft\, Nederl
 and;X-APPLE-RADIUS=100;X-TITLE=Festivalterrein Assendelft:geo:0,0
END:VEVENT
BEGIN:VTIMEZONE
TZID:Europe/Amsterdam
X-LIC-LOCATION:Europe/Amsterdam
BEGIN:DAYLIGHT
DTSTART:20250330T030000
TZOFFSETFROM:+0100
TZOFFSETTO:+0200
TZNAME:CEST
END:DAYLIGHT
END:VTIMEZONE
END:VCALENDAR