BEGIN:VCALENDAR
VERSION:2.0
PRODID:-//wp-events-plugin.com//7.2.3.1//EN
TZID:Europe/Amsterdam
X-WR-TIMEZONE:Europe/Amsterdam
BEGIN:VEVENT
UID:36846@agenda-zaanstreek.nl
DTSTART;TZID=Europe/Amsterdam:20250130T123000
DTEND;TZID=Europe/Amsterdam:20250130T143000
DTSTAMP:20250115T201904Z
URL:https://agenda-zaanstreek.nl/events/autisme-steunpunt-zaanstreek/
SUMMARY:Autisme Steunpunt Zaanstreek
DESCRIPTION:\n    ! 30 Januari 12:30-14:30 uur.\n\n\nAchter de schermen is 
 hard gewerkt aan de mogelijkheid om er ook voor onze doelgroep in (de omge
 ving van) Zaandam te kunnen zijn. Met succes\, want in samenwerking met he
 t Sociaal Wijkteam gaan wij starten met een 2e locatie in Zaandam. Kom je 
 langs? Je bent van harte welkom!\n\n\n: Elke donderdag in de oneven weken\
 nvan 12:20 tot 14:30 uur\n: Buurtcentrum Kleurrijk\nPanneroodstraat 3 te Z
 aandam\n: www.autismesteunpuntnh.nl\n\n\nEen afspraak maken is niet nodig.
  Het is een vrije inloop. Gratis..\n\n\nHeb jij zelf of iemand in jouw omg
 eving (een vermoeden van)\nautisme? Voel je dan welkom bij het Autisme Ste
 unpunt Zaanstreek.\nOns team met ervaringsvrijwilligers en professionals i
 s er voor jou.\nLoop eens bij ons binnen en neem gerust iemand mee.\nVoor 
 een kop koffie of thee\, een beetje gezelligheid\, om je verhaal te delen\
 , ervaringen uit te wisselen en vragen te stellen.\nOf het nu gaat over je
 zelf\, je partner\, je kind of iemand anders.\nWe denken graag met je mee.
 \n\n
CATEGORIES:Sociaal
LOCATION:Buurthuis Kleurrijk\, Panneroodstraat 3\, Zaandam\, Nederland
X-APPLE-STRUCTURED-LOCATION;VALUE=URI;X-ADDRESS=Panneroodstraat 3\, Zaandam
 \, Nederland;X-APPLE-RADIUS=100;X-TITLE=Buurthuis Kleurrijk:geo:0,0
END:VEVENT
BEGIN:VTIMEZONE
TZID:Europe/Amsterdam
X-LIC-LOCATION:Europe/Amsterdam
BEGIN:STANDARD
DTSTART:20241027T020000
TZOFFSETFROM:+0200
TZOFFSETTO:+0100
TZNAME:CET
END:STANDARD
END:VTIMEZONE
END:VCALENDAR