BEGIN:VCALENDAR
VERSION:2.0
PRODID:-//wp-events-plugin.com//7.2.3.1//EN
TZID:Europe/Amsterdam
X-WR-TIMEZONE:Europe/Amsterdam
BEGIN:VEVENT
UID:36097@agenda-zaanstreek.nl
DTSTART;TZID=Europe/Amsterdam:20250130T200000
DTEND;TZID=Europe/Amsterdam:20250130T200000
DTSTAMP:20241128T134144Z
URL:https://agenda-zaanstreek.nl/events/armoede-uitgelegd-aan-mensen-met-g
 eld/
SUMMARY:Armoede uitgelegd aan mensen met geld
DESCRIPTION:\nTim ’S Jongers\, De Correspondent &amp\; Via Rudolphi\nEen 
 spoedcursus over de grootste misvattingen rondom armoede\n\n\nArmoede is j
 e eigen schuld.\n\n\nArmoede is niet meer dan een gebrek aan geld.\nArmoed
 e leidt tot domme en ongezonde keuzes.\n\nIn een land geregeerd door welva
 rende\, hogeropgeleide mensen wordt op een beperkte en soms zelfs schadeli
 jke manier naar armoede gekeken. Tim ’S Jongers groeide op in armoede\, 
 ging uiteindelijk studeren\, deed onderzoek naar armoede en doet nu beleid
 svoorstellen om het tegen te gaan.\n\n\n\n\n\n\nIn dit theatercollege neem
 t hij het publiek mee langs de vele misvattingen die er bestaan over armoe
 de. Want hoe de meeste mensen denken over armoede klopt van geen kant - en
  de enige manier waarop we het kunnen bestrijden is als zij anders leren k
 ijken.\n\nDit theatercollege is een coproductie van De Correspondent en Vi
 a Rudolphi.\n\nOver Tim ’S Jongers\nTim ’S Jongers (1981) is politicol
 oog\, bestuurskundige en directeur van de Wiardi Beckman Stichting. Voor&n
 bsp\;De Correspondent&nbsp\;schrijft hij over armoede\; van zijn boek&nbsp
 \;Armoede uitgelegd aan mensen met geld&nbsp\;zijn meer dan 25.000 exempla
 ren verkocht.\n\n\n\n
CATEGORIES:Theatercolleges &amp; Salons
LOCATION:Zaantheater\, Nicolaasstraat 3\, Zaandam\, 1506 BB\, Nederland
X-APPLE-STRUCTURED-LOCATION;VALUE=URI;X-ADDRESS=Nicolaasstraat 3\, Zaandam\
 , 1506 BB\, Nederland;X-APPLE-RADIUS=100;X-TITLE=Zaantheater:geo:0,0
END:VEVENT
BEGIN:VTIMEZONE
TZID:Europe/Amsterdam
X-LIC-LOCATION:Europe/Amsterdam
BEGIN:STANDARD
DTSTART:20241027T020000
TZOFFSETFROM:+0200
TZOFFSETTO:+0100
TZNAME:CET
END:STANDARD
END:VTIMEZONE
END:VCALENDAR