BEGIN:VCALENDAR
VERSION:2.0
PRODID:-//wp-events-plugin.com//7.2.3.1//EN
TZID:Europe/Amsterdam
X-WR-TIMEZONE:Europe/Amsterdam
BEGIN:VEVENT
UID:35826@agenda-zaanstreek.nl
DTSTART;TZID=Europe/Amsterdam:20250118T200000
DTEND;TZID=Europe/Amsterdam:20250118T200000
DTSTAMP:20241118T200230Z
URL:https://agenda-zaanstreek.nl/events/apres-ski-pubquiz/
SUMMARY:Aprés Ski Pubquiz
DESCRIPTION:\n\nZaterdag 18 januari organiseren we weer een pubquiz in ons 
 clubgebouw! Dit keer in het thema après ski&nbsp\;. Inschrijven kan in te
 ams van 4-6 personen. De inschrijfkosten zijn €30 per team. Haal de dirn
 dls en lederhosen uit de kast en schrijf je nu in via info@crescendo-assen
 delft.nlLet op: VOL = VOL! Vermeld bij de aanmelding wie er in jouw team z
 it en denk alvast na over een winnende teamnaam. Deel de poster vooral met
  jullie vrienden en familie.We hebben er heel veel zin in en hopen jullie 
 allemaal te zien op 18 januari.Jetzt geht’s los!&nbsp\;
CATEGORIES:Spellen (bingo-bridge-etc)
LOCATION:Muziekvereniging Crescendo\, Dorpsstraat 535 A\, Assendelft\, 1566
  BL\, Nederland
X-APPLE-STRUCTURED-LOCATION;VALUE=URI;X-ADDRESS=Dorpsstraat 535 A\, Assende
 lft\, 1566 BL\, Nederland;X-APPLE-RADIUS=100;X-TITLE=Muziekvereniging Cres
 cendo:geo:0,0
END:VEVENT
BEGIN:VTIMEZONE
TZID:Europe/Amsterdam
X-LIC-LOCATION:Europe/Amsterdam
BEGIN:STANDARD
DTSTART:20241027T020000
TZOFFSETFROM:+0200
TZOFFSETTO:+0100
TZNAME:CET
END:STANDARD
END:VTIMEZONE
END:VCALENDAR