BEGIN:VCALENDAR
VERSION:2.0
PRODID:-//wp-events-plugin.com//7.2.3.1//EN
TZID:Europe/Amsterdam
X-WR-TIMEZONE:Europe/Amsterdam
BEGIN:VEVENT
UID:40210@agenda-zaanstreek.nl
DTSTART;TZID=Europe/Amsterdam:20251016T201500
DTEND;TZID=Europe/Amsterdam:20251016T201500
DTSTAMP:20250918T080546Z
URL:https://agenda-zaanstreek.nl/events/amsterdam-en-de-zaanstreek-een-ges
 prek/
SUMMARY:Amsterdam en de Zaanstreek: een gesprek
DESCRIPTION:\n\nAmsterdam bestaat dit jaar 750 jaar. Reden om eens stil te 
 staan bij de relatie tussen Zaanstreek en Amsterdam.\nZaanstreek en Amster
 dam hebben vast veel met elkaar gemeen\, of is dat we wat willen denken? D
 e Zaanstreek was eerder dan Amsterdam van belang\, maar heeft dat stokje v
 an belang overgedragen aan Amsterdam. Waarom? Is dat zo omdat de twee gebi
 eden gescheiden waren door water\, of was er een andere reden? En hoe hebb
 en deze twee gebieden elkaar beïnvloed?\n\nIn de lezing van vanavond word
 en deze vragen wellicht beantwoord. En misschien heeft u zelf vragen. In i
 eder geval zijn er veel mooie verhalen te vertellen\, want Bas Kok en Pete
 r Tange zijn beiden begenadigde vertellers.\n\nZuidervermaning\, donderdag
  16 oktober om 20.15 uur. Kaarten €10\,- via www.zuidervermaning.nl\n\n&
 nbsp\;Bas Kok:\nBas Kok (Amsterdam\, 1966) schrijft zowel proza als non-fi
 ctie. Thema’s zijn Amsterdamse geschiedenis\, stedenbouwkundige ontwikke
 ling en de psychologie van een veranderende stad. Bas publiceert ondermeer
  in&nbsp\;Het Parool\,&nbsp\;NRC&nbsp\;en&nbsp\;Trouw. Voordat hij met pub
 liceren begon werkte hij 20 jaar als arbeids- en organisatiepsycholoog.\n\
 n&nbsp\;Peter Tange\nPeter Tange\, Koog aan de Zaan (1952)\, was docent Ne
 derlands\, wiskunde en maatschappelijke begeleiding en later directeur van
  een technische school (ROC). Daarnaast was hij van 1982 tot 2000 raadslid
  in de gemeente Zaanstad namens de PSP/GroenLinks. Van maart 2000 tot maar
 t 2020 was hij burgemeester van de gemeente Wormerland\, en daarmee de lan
 gst zittende burgemeester in een plaats.\nTange heeft vorig jaar op uitnod
 iging van de Historische Vereniging Westzaan een lezing in de Zuiderverman
 ing gegeven\n\n&nbsp\;
CATEGORIES:Erfgoed,Lezing
LOCATION:Zuidervermaning Westzaan\, Zuideinde 233\, Westzaan\, 1551 EG\, Ne
 derland
X-APPLE-STRUCTURED-LOCATION;VALUE=URI;X-ADDRESS=Zuideinde 233\, Westzaan\, 
 1551 EG\, Nederland;X-APPLE-RADIUS=100;X-TITLE=Zuidervermaning Westzaan:ge
 o:0,0
END:VEVENT
BEGIN:VTIMEZONE
TZID:Europe/Amsterdam
X-LIC-LOCATION:Europe/Amsterdam
BEGIN:DAYLIGHT
DTSTART:20250330T030000
TZOFFSETFROM:+0100
TZOFFSETTO:+0200
TZNAME:CEST
END:DAYLIGHT
END:VTIMEZONE
END:VCALENDAR