BEGIN:VCALENDAR
VERSION:2.0
PRODID:-//wp-events-plugin.com//7.2.3.1//EN
TZID:Europe/Amsterdam
X-WR-TIMEZONE:Europe/Amsterdam
BEGIN:VEVENT
UID:36756@agenda-zaanstreek.nl
DTSTART;TZID=Europe/Amsterdam:20250130T143000
DTEND;TZID=Europe/Amsterdam:20250130T143000
DTSTAMP:20250109T111047Z
URL:https://agenda-zaanstreek.nl/events/alzheimer-cafe-thema-dementie-en-b
 ewegen-2/
SUMMARY:Alzheimer Café Thema Dementie en bewegen
DESCRIPTION:
CATEGORIES:Sociaal
LOCATION:De KunstGreep\, Kerkbuurt 4\, Oostzaan\, 1511 BD\, Nederland
X-APPLE-STRUCTURED-LOCATION;VALUE=URI;X-ADDRESS=Kerkbuurt 4\, Oostzaan\, 15
 11 BD\, Nederland;X-APPLE-RADIUS=100;X-TITLE=De KunstGreep:geo:0,0
END:VEVENT
BEGIN:VTIMEZONE
TZID:Europe/Amsterdam
X-LIC-LOCATION:Europe/Amsterdam
BEGIN:STANDARD
DTSTART:20241027T020000
TZOFFSETFROM:+0200
TZOFFSETTO:+0100
TZNAME:CET
END:STANDARD
END:VTIMEZONE
END:VCALENDAR