BEGIN:VCALENDAR
VERSION:2.0
PRODID:-//wp-events-plugin.com//7.2.3.1//EN
TZID:Europe/Amsterdam
X-WR-TIMEZONE:Europe/Amsterdam
BEGIN:VEVENT
UID:37326@agenda-zaanstreek.nl
DTSTART;TZID=Europe/Amsterdam:20250219T193000
DTEND;TZID=Europe/Amsterdam:20250219T193000
DTSTAMP:20250213T102229Z
URL:https://agenda-zaanstreek.nl/events/alzheimer-cafe-dementie-wat-gebeur
 t-er-in-je-hoofd-en-hoe-ga-je-ermee-om/
SUMMARY:Alzheimer Café - Dementie\, wat gebeurt er in je hoofd en hoe ga j
 e ermee om?
DESCRIPTION:
CATEGORIES:Lezing
LOCATION:Pennemes\, Bloemgracht 95\, Zaandam\, 1502 WB\, Nederland
X-APPLE-STRUCTURED-LOCATION;VALUE=URI;X-ADDRESS=Bloemgracht 95\, Zaandam\, 
 1502 WB\, Nederland;X-APPLE-RADIUS=100;X-TITLE=Pennemes:geo:0,0
END:VEVENT
BEGIN:VTIMEZONE
TZID:Europe/Amsterdam
X-LIC-LOCATION:Europe/Amsterdam
BEGIN:STANDARD
DTSTART:20241027T020000
TZOFFSETFROM:+0200
TZOFFSETTO:+0100
TZNAME:CET
END:STANDARD
END:VTIMEZONE
END:VCALENDAR