BEGIN:VCALENDAR
VERSION:2.0
PRODID:-//wp-events-plugin.com//7.2.3.1//EN
TZID:Europe/Amsterdam
X-WR-TIMEZONE:Europe/Amsterdam
BEGIN:VEVENT
UID:41012@agenda-zaanstreek.nl
DTSTART;TZID=Europe/Amsterdam:20260322T143000
DTEND;TZID=Europe/Amsterdam:20260322T143000
DTSTAMP:20260219T102932Z
URL:https://agenda-zaanstreek.nl/events/algemene-leden-vergadering-histori
 sche-vereniging-koog-zaandijk-met-peter-tange-met-het-koffertje-van-de-bur
 gemeester/
SUMMARY:Algemene Leden Vergadering Historische Vereniging Koog-Zaandijk met
  Peter Tange met  'Het koffertje van de burgemeester"
DESCRIPTION:Het bestuur van de Historische Vereniging Koog-Zaandijk nodigt 
 u alvast&nbsp\; uit voor de Algemene Leden Vergadering die&nbsp\; gehouden
  zal worden op zondagmiddag 22 maart 2026 in de Kooger Vermaning&nbsp\; (a
 anvang 14:30 uur).&nbsp\; De agenda wordt later gestuurd.\n\nNa de pauze k
 omt&nbsp\; Peter Tange met&nbsp\; 'Het koffertje van de burgemeester" en n
 eemt&nbsp\;\n\nzijn&nbsp\; platenkoffertje mee.&nbsp\; Daarin zitten prent
 en en voorwerpen die hij in de loop van de tijd heeft verzameld om het ver
 leden meer zichtbaar te kunnen maken en daar boeiend over te vertellen.\n\
 n&nbsp\;
CATEGORIES:Erfgoed
LOCATION:Kooger Vermaning\, Lagedijk 34\, Koog aan de Zaan\, 1541 KC\, Nede
 rland
X-APPLE-STRUCTURED-LOCATION;VALUE=URI;X-ADDRESS=Lagedijk 34\, Koog aan de Z
 aan\, 1541 KC\, Nederland;X-APPLE-RADIUS=100;X-TITLE=Kooger Vermaning:geo:
 0,0
END:VEVENT
BEGIN:VTIMEZONE
TZID:Europe/Amsterdam
X-LIC-LOCATION:Europe/Amsterdam
BEGIN:STANDARD
DTSTART:20251026T020000
TZOFFSETFROM:+0200
TZOFFSETTO:+0100
TZNAME:CET
END:STANDARD
END:VTIMEZONE
END:VCALENDAR