BEGIN:VCALENDAR
VERSION:2.0
PRODID:-//wp-events-plugin.com//7.2.3.1//EN
TZID:Europe/Amsterdam
X-WR-TIMEZONE:Europe/Amsterdam
BEGIN:VEVENT
UID:40601@agenda-zaanstreek.nl
DTSTART;TZID=Europe/Amsterdam:20251113T200000
DTEND;TZID=Europe/Amsterdam:20251113T200000
DTSTAMP:20251106T111631Z
URL:https://agenda-zaanstreek.nl/events/aleph-bandn-sparkl-prod/
SUMMARY:Aleph & Bandn - Sparkl Prod
DESCRIPTION:\n\nMuziek\n\n\n\n\nNa een Amerikaanse tournee in oktober 2025 
 in de steden Houston\, Washington DC\, New York\, Boston\, Michigan en Los
  Angeles\, zal Aleph ABI SAAD in november 2025 doorgaan met een Europese t
 ournee in de steden Brussel\, Amsterdam\, Toulouse en Montpellier.\n\n*Voo
 r betalingen met iDeal\, klik&nbsp\;hier.*\n\n\n\n\n\n\nAleph ABI SAAD en 
 zijn orkest in concert in Amsterdam (Zaandam). Een uitzonderlijke muzikale
  ervaring\, tussen Oost en West...\n\nMaak je klaar voor een onvergetelijk
  concert met Aleph Abi Saad\, een Libanese pianist en componist wiens tale
 nt geen grenzen kent. Met zijn unieke stijl die jazz\, tango\, flamenco en
  oosterse muziek combineert\, transformeert Aleph elke noot in een emotie 
 en elke melodie in een reis\, en biedt hij zijn publiek een optreden dat z
 owel intiem als spectaculair is\, gedreven door een unieke gevoeligheid.\n
 \nZijn gedurfde muzikale fusie heeft hem in staat gesteld samen te werken 
 met legendes zoals Demis Roussos en Wadih el Safi\, terwijl hij een eigen 
 geluidssignatuur heeft gecreëerd.\n\nKom en ontdek deze grote internation
 ale artiest die culturen overbrugt en resoneert met het ritme van originel
 e composities en opvallende arrangementen uitgevoerd door Aleph en zijn fa
 ntastische orkest\, bestaande uit gerenommeerde muzikanten uit verschillen
 de achtergronden. Samen bieden ze een unieke en meeslepende muzikale ervar
 ing\, waarbij jazz\, tango\, flamenco en oosterse muziek worden gecombinee
 rd\, en zo de grote klassiekers van de oosterse muziek (Tarab) en de inter
 nationale muziek opnieuw worden bezocht.\n\nMis deze buitengewone muzikale
  ontmoeting niet. Boek nu je tickets!\n\nLet op\, het gaat hier om een voo
 rstelling buiten ons reguliere theateraanbod. De ticketverkoop verloopt vi
 a SPARKL PROD.\n\n\n\n
CATEGORIES:Muziek
LOCATION:Zaantheater\, Nicolaasstraat 3\, Zaandam\, 1506 BB\, Nederland
X-APPLE-STRUCTURED-LOCATION;VALUE=URI;X-ADDRESS=Nicolaasstraat 3\, Zaandam\
 , 1506 BB\, Nederland;X-APPLE-RADIUS=100;X-TITLE=Zaantheater:geo:0,0
END:VEVENT
BEGIN:VTIMEZONE
TZID:Europe/Amsterdam
X-LIC-LOCATION:Europe/Amsterdam
BEGIN:STANDARD
DTSTART:20251026T020000
TZOFFSETFROM:+0200
TZOFFSETTO:+0100
TZNAME:CET
END:STANDARD
END:VTIMEZONE
END:VCALENDAR