BEGIN:VCALENDAR
VERSION:2.0
PRODID:-//wp-events-plugin.com//7.2.3.1//EN
TZID:Europe/Amsterdam
X-WR-TIMEZONE:Europe/Amsterdam
BEGIN:VEVENT
UID:39088@agenda-zaanstreek.nl
DTSTART;TZID=Europe/Amsterdam:20250614T000000
DTEND;TZID=Europe/Amsterdam:20250614T000000
DTSTAMP:20250605T095611Z
URL:https://agenda-zaanstreek.nl/events/achter-de-schermen-bij-afvalzorg-n
 auerna-vier-rondleidingen/
SUMMARY:Achter de schermen bij Afvalzorg Nauerna - Vier rondleidingen
DESCRIPTION:\n14 juni\n\n\n\n\n\n\nZaanstad\n\n\n\n\n\n\nAL\n\n\n\n\n\n\n
 € Gratis\n\n\n\n\n\n\nOntdek bij Afvalzorg Nauerna hoe afval wordt verwe
 rkt tot bouwstoffen en groenproducten.\n\n\n\n\nWil je meer weten over hoe
  Afvalzorg recreatie\, wonen\, natuur en energie combineert op gesloten st
 ortplaatsen en deze geschikt maakt voor de nieuwe bestemmingen? Doe een ro
 ndleiding bij Afvalzorg in Nauerna en je komt erachter hoe het werkt. Ook 
 hergebruik van afvalstromen tot bouwstoffen en groenproducten.\nPraktische
  info\nGratis rondleiding\nTijdens je bezoek krijg je eerst een korte pres
 entatie van een van onze medewerkers. Daarna gaan we per bus de locatie op
  en laten we zien welke activiteiten er allemaal plaats vinden op onze loc
 atie Nauerna. We stappen ook uit\, waarna we lopend naar het hoogste punt 
 van de locatie gaan\, waar je een prachtig uitzicht hebt over de omgeving.
  Zie onderstaand het adres.\n\nDeelnemers per rondleiding\nOp zaterdag 14 
 juni zijn er vier rondleidingen van ruim een uur. Er kunnen maximaal 24 pe
 rsonen aan een rondleiding deelnemen. Kies zelf je tijdslot via: bestel je
  tickets.\n\nMinimum leeftijd\nDeze tour is geschikt voor alle leeftijden.
  Kinderen kunnen deelnemen onder begeleiding van een volwassene.\n\nBereik
 baarheid\nPer auto of fiets bereikbaar. Gratis parkeren op het terrein.\n\
 nAdres\nAfvalzorg Nauerna\nNauerna 1\n1566 PB Assendelft\n\nLet op! Trek s
 tevige schoenen aan.\nHelaas is de rondleiding wat minder geschikt voor me
 nsen die slecht ter been zijn of in een rolstoel zitten. Uiteraard is het 
 wel mogelijk de presentatie bij te wonen.\n\n\n\nBestel je tickets
LOCATION:Nauerna\, -\, -\, Nederland
X-APPLE-STRUCTURED-LOCATION;VALUE=URI;X-ADDRESS=-\, -\, Nederland;X-APPLE-R
 ADIUS=100;X-TITLE=Nauerna:geo:0,0
END:VEVENT
BEGIN:VTIMEZONE
TZID:Europe/Amsterdam
X-LIC-LOCATION:Europe/Amsterdam
BEGIN:DAYLIGHT
DTSTART:20250330T030000
TZOFFSETFROM:+0100
TZOFFSETTO:+0200
TZNAME:CEST
END:DAYLIGHT
END:VTIMEZONE
END:VCALENDAR