BEGIN:VCALENDAR
VERSION:2.0
PRODID:-//wp-events-plugin.com//7.2.3.1//EN
TZID:Europe/Amsterdam
X-WR-TIMEZONE:Europe/Amsterdam
BEGIN:VEVENT
UID:33279@agenda-zaanstreek.nl
DTSTART;TZID=Europe/Amsterdam:20241116T200000
DTEND;TZID=Europe/Amsterdam:20241116T200000
DTSTAMP:20240613T142903Z
URL:https://agenda-zaanstreek.nl/events/a-tribute-to-the-soul-of-the-60s/
SUMMARY:A Tribute to the Soul of the 60’s 
DESCRIPTION:\n\n\n\n\n\n\n\n\n\n\n\n\n\n\n\n\n\n\n\n\n\n\n\n\nWil je weten 
 welke muziek de grote artiesten van dit moment nog steeds inspireert? Of h
 oor je graag die oude soulnummers uit je jeugd? Of hou je gewoon van lekke
 re muziek en vier je het feest der herkenning? Dan zit je goed bij de thea
 tervoorstelling ‘A Tribute tot he Soul of the 60’s’.\n\nIn de wervel
 ende voorstelling wordt het publiek meegenomen naar de Verenigde Staten in
  de roerige jaren ’60. De mooie\, grappige\, ontroerende en soms ook sch
 rijnende verhalen zijn de basis voor een muzikale rondreis langs alle monu
 menten van de soul uit die tijd.\n\nVeel grote\, maar ook enkele minder gr
 ote namen komen voorbij\, waaronder Otis Redding\, James Brown\, Ray Charl
 es\, Aretha Franklin en Wilson Pickett.\n\nMarjon van Iwaarden – vocals\
 nSpencer Croes – vocals\nBas Matthijsse – basgitaar\nGerard Oele – g
 itaar\nWalter Calbo – piano\, Hammond orgel\, backing vocals\nEdwin van 
 Vlierden – drums\nRonald Baljeu – trompet\nJasmijn de Klerk – tenors
 ax\n\nDit is een zitconcert\nTickets € 25 (+&nbsp\; 1\,00 reserveringsko
 sten)\nAan de deur: € 26\,00\n\n\n\n\n\n\n\n\n\n\n\nKOOP TICKETS\n\n\n\n
 \n\n\n\n\n\n\n&nbsp\;\n\n\n\n\n\n\n\n\n\n\n\n\n\n\n\n\n\n 	\n\n&nbsp\;\n\n
 \n\n\n\n\n\n\n\n
CATEGORIES:Muziek
LOCATION:Cultureel Centrum Bullekerk (Westzijderkerk)\, Westzijde 75\, Zaan
 dam\, 1506 ED\, Nederland
X-APPLE-STRUCTURED-LOCATION;VALUE=URI;X-ADDRESS=Westzijde 75\, Zaandam\, 15
 06 ED\, Nederland;X-APPLE-RADIUS=100;X-TITLE=Cultureel Centrum Bullekerk (
 Westzijderkerk):geo:0,0
END:VEVENT
BEGIN:VTIMEZONE
TZID:Europe/Amsterdam
X-LIC-LOCATION:Europe/Amsterdam
BEGIN:STANDARD
DTSTART:20241027T020000
TZOFFSETFROM:+0200
TZOFFSETTO:+0100
TZNAME:CET
END:STANDARD
END:VTIMEZONE
END:VCALENDAR