BEGIN:VCALENDAR
VERSION:2.0
PRODID:-//wp-events-plugin.com//7.2.3.1//EN
TZID:Europe/Amsterdam
X-WR-TIMEZONE:Europe/Amsterdam
BEGIN:VEVENT
UID:35628@agenda-zaanstreek.nl
DTSTART;TZID=Europe/Amsterdam:20241120T193000
DTEND;TZID=Europe/Amsterdam:20241120T213000
DTSTAMP:20241106T102032Z
URL:https://agenda-zaanstreek.nl/events/a-tot-z-debat-iv-de-gezonde-regio/
SUMMARY:A tot Z-debat IV: De gezonde regio
DESCRIPTION:\n\nOp woensdagavond 20 november 2024 vindt het vierde A tot Z-
 debat plaats\, georganiseerd door Babel en Arcam. Het thema ‘De gezonde 
 regio’ belicht de uitdagingen en samenwerking voor een gezond Noordzeeka
 naalgebied.\n\nGezondheid kent vele perspectieven – van bewoners in Zaan
 dam tot bedrijven in het Westelijk Havengebied. Vanuit filosofische\, bele
 idsmatige en praktische invalshoeken bespreken we wat een gezonde regio be
 tekent en hoe belangen soms botsen. Tijdens deze avond wordt vanuit versch
 illende invalshoeken (filosofisch\, beleidsmatig en praktisch) gekeken naa
 r hoe we een gezond Noordzeekanaalgebied kunnen realiseren. We onderzoeken
  hoe de belangen van elkaar kunnen afwijken en hoe samengewerkt kan worden
  aan een gezonde leefomgeving in de toekomst.\n\nSprekers\n\nSaskia van St
 ein (directeur Internationale Architectuur Biënnale Rotterdam) deelt de r
 esultaten van de IABR 2024\, waarin hoop en natuur centraal staan\, en bes
 preekt de rol van ontwerpers in deze opgave. William Stokman (NOVEX-Noordz
 eekanaalgebied) reflecteert op zijn tijd als projectleider van de integral
 e aanpak van Rijk\, regio en partners voor het NOVEX-gebied NZKG en bespre
 ekt hoe beleid en ontwerp kunnen bijdragen aan een gezonde toekomst. Milem
 be Mateyo (Rijkshavenmeester) gaat in op nautische veiligheid en de ruimte
 lijke implicaties die daarbij horen. Het debat wordt ingeleid door Leontin
 e de Koning (Babel) en Indira van 't Klooster (Arcam).\n\nPraktische infor
 matie\n\nHet A tot Z-debat vindt plaats op woensdagavond 20 november in de
  2e Verdieping op het Hembrugterrein\, Affuitenhal 1\, 1505 RE Zaandam. De
  inloop begint om 19:00 uur met koffie en thee. Het programma start om 19:
 30 uur en eindigt om 21:30 uur\, gevolgd door een borrel.\n\nDeelname is g
 ratis. Meld je hier aan.
CATEGORIES:Theatercolleges &amp; Salons
LOCATION:De 2e Verdieping - Magazijn14 (unit 2.01)\, Affuitenhal 1\, Zaanda
 m\, 1505 RE\, Nederland
X-APPLE-STRUCTURED-LOCATION;VALUE=URI;X-ADDRESS=Affuitenhal 1\, Zaandam\, 1
 505 RE\, Nederland;X-APPLE-RADIUS=100;X-TITLE=De 2e Verdieping - Magazijn1
 4 (unit 2.01):geo:0,0
END:VEVENT
BEGIN:VTIMEZONE
TZID:Europe/Amsterdam
X-LIC-LOCATION:Europe/Amsterdam
BEGIN:STANDARD
DTSTART:20241027T020000
TZOFFSETFROM:+0200
TZOFFSETTO:+0100
TZNAME:CET
END:STANDARD
END:VTIMEZONE
END:VCALENDAR