BEGIN:VCALENDAR
VERSION:2.0
PRODID:-//wp-events-plugin.com//7.2.3.1//EN
TZID:Europe/Amsterdam
X-WR-TIMEZONE:Europe/Amsterdam
BEGIN:VEVENT
UID:35710@agenda-zaanstreek.nl
DTSTART;TZID=Europe/Amsterdam:20250131T203000
DTEND;TZID=Europe/Amsterdam:20250131T203000
DTSTAMP:20250130T134402Z
URL:https://agenda-zaanstreek.nl/events/80s-90s-disco-party-met-de-clip-cl
 ub-2/
SUMMARY:80’s & 90’s DISCO PARTY met DE CLIP CLUB - Uitverkocht
DESCRIPTION:\n\n\n\n\n\n\n\n\n\n\n\n\n\n\n\n\n\n\n\n\n\n\n\n\nVrijdag 31 ja
 nuari organiseren wij een dansavond met DE CLIP CLUB. Lekker dansen op hee
 rlijke muziek uit de jaren ’80 en ’90 met op de achtergrond de origine
 le filmbeelden. Trommel al je vrienden en vriendinnen op\, neem je familie
  mee en kom lekker dansen op heerlijke muziek!\n\nDeuren open: 20.00 uur\n
 Aanvang: 20.30 uur\n\nTickets:\nVoorverkoop € 9\,00 (+ € 1\,00 reserve
 ringskosten)\nTickets aan de deur € 10\,00\n\nVoor deze avond geldt een 
 minimum leeftijd van 21 jaar.\n\n\n\n\n\n\n\n\n\n\n\nKoop tickets\n\n\n\n\
 n\n\n\n\n\n
CATEGORIES:Dans,Muziek
LOCATION:Cultureel Centrum Bullekerk (Westzijderkerk)\, Westzijde 75\, Zaan
 dam\, 1506 ED\, Nederland
X-APPLE-STRUCTURED-LOCATION;VALUE=URI;X-ADDRESS=Westzijde 75\, Zaandam\, 15
 06 ED\, Nederland;X-APPLE-RADIUS=100;X-TITLE=Cultureel Centrum Bullekerk (
 Westzijderkerk):geo:0,0
END:VEVENT
BEGIN:VTIMEZONE
TZID:Europe/Amsterdam
X-LIC-LOCATION:Europe/Amsterdam
BEGIN:STANDARD
DTSTART:20241027T020000
TZOFFSETFROM:+0200
TZOFFSETTO:+0100
TZNAME:CET
END:STANDARD
END:VTIMEZONE
END:VCALENDAR