BEGIN:VCALENDAR
VERSION:2.0
PRODID:-//wp-events-plugin.com//7.2.3.1//EN
TZID:Europe/Amsterdam
X-WR-TIMEZONE:Europe/Amsterdam
BEGIN:VEVENT
UID:40893@agenda-zaanstreek.nl
DTSTART;TZID=Europe/Amsterdam:20260130T200000
DTEND;TZID=Europe/Amsterdam:20260130T200000
DTSTAMP:20251215T111859Z
URL:https://agenda-zaanstreek.nl/events/55389/
SUMMARY:70s\, 80s & 90s DISCO PARTY met DE CLIP CLUB
DESCRIPTION:\n\n\n\n\n\n\n\n\n\n\n\n\n\n\n\n\n\n\n\n\n\n\n\n\nVrijdag 30 ja
 nuari organiseren wij weer een dansavond met DE CLIP CLUB. Lekker dansen o
 p heerlijke muziek uit de jaren ’70\, ’80 en ’90 met op de achtergro
 nd de originele filmbeelden. Trommel al je vrienden en vriendinnen op\, ne
 em je familie mee en kom lekker dansen op heerlijke muziek!\n\nAanvang: 20
 .00 uur\nEinde: 24.00 uur\n\nTickets:\nVoorverkoop € 9\,00 (+ € 2\,00 
 reserveringskosten)\nTickets aan de deur € 11\,00\n\nVoor deze avond gel
 dt een minimum leeftijd van 21 jaar.\n\n\n\n\n\n\n\n\n\n\n\nKoop tickets\n
 \n\n\n\n\n\n&nbsp\;\n\n\n\n\n\n\n\n\n\n&nbsp\;\n\n\n\n\n\n\n\n\n
CATEGORIES:Muziek
LOCATION:Cultureel Centrum Bullekerk (Westzijderkerk)\, Westzijde 75\, Zaan
 dam\, 1506 ED\, Nederland
X-APPLE-STRUCTURED-LOCATION;VALUE=URI;X-ADDRESS=Westzijde 75\, Zaandam\, 15
 06 ED\, Nederland;X-APPLE-RADIUS=100;X-TITLE=Cultureel Centrum Bullekerk (
 Westzijderkerk):geo:0,0
END:VEVENT
BEGIN:VTIMEZONE
TZID:Europe/Amsterdam
X-LIC-LOCATION:Europe/Amsterdam
BEGIN:STANDARD
DTSTART:20251026T020000
TZOFFSETFROM:+0200
TZOFFSETTO:+0100
TZNAME:CET
END:STANDARD
END:VTIMEZONE
END:VCALENDAR