BEGIN:VCALENDAR
VERSION:2.0
PRODID:-//wp-events-plugin.com//7.2.3.1//EN
TZID:Europe/Amsterdam
X-WR-TIMEZONE:Europe/Amsterdam
BEGIN:VEVENT
UID:39435@agenda-zaanstreek.nl
DTSTART;TZID=Europe/Amsterdam:20250821T110000
DTEND;TZID=Europe/Amsterdam:20250823T130000
DTSTAMP:20250709T100843Z
URL:https://agenda-zaanstreek.nl/events/53485/
SUMMARY:Hemlab Knutsel een Camera Obscura! 7-14 jaar
DESCRIPTION:DO 21\, VR 22\, ZA 23 AUG: Knutsel een Camera Obscura! 7-14 jaa
 r\n\n\n&nbsp\;\n\n&nbsp\;\n\nIn de zomervakantie knutsel je een camera obs
 cura. Je ontdekt hoe het licht deze eenvoudige gaatjescamera de wereld op 
 zijn kop zet en hoe een fototoestel en je oog werkt. Als die klaar is\, ze
 t je er een echte lens op en werkt je camera obscura nog veel beter. Is je
  camera obscura af\, dan zijn er nog zomerse proefjes met (zon)licht.\n\nD
 o 21 aug 2025 11.00-13.00 u\nVr 22 aug 2025 11.00-13.00 u\nZa 23 aug 2025 
 11.00-13.00 en 14.00-16.00 u\n\nHemlab.nl/tickets\nKind 7-14 jaar/volwasse
 ne €13\,50\nExtra voordelig met&nbsp\;strippenkaart\nMet ZaansePas/Stads
 pas Amsterdam €2\,50\n\n
CATEGORIES:Cursus Workshop,Jeugd
LOCATION:HEMLAB - Jeugdlab Zaandam\, Barndegat 6-8\, Zaandam\, 1505 HN\, Ne
 derland
X-APPLE-STRUCTURED-LOCATION;VALUE=URI;X-ADDRESS=Barndegat 6-8\, Zaandam\, 1
 505 HN\, Nederland;X-APPLE-RADIUS=100;X-TITLE=HEMLAB - Jeugdlab Zaandam:ge
 o:0,0
END:VEVENT
BEGIN:VTIMEZONE
TZID:Europe/Amsterdam
X-LIC-LOCATION:Europe/Amsterdam
BEGIN:DAYLIGHT
DTSTART:20250330T030000
TZOFFSETFROM:+0100
TZOFFSETTO:+0200
TZNAME:CEST
END:DAYLIGHT
END:VTIMEZONE
END:VCALENDAR