BEGIN:VCALENDAR
VERSION:2.0
PRODID:-//wp-events-plugin.com//7.2.3.1//EN
TZID:Europe/Amsterdam
X-WR-TIMEZONE:Europe/Amsterdam
BEGIN:VEVENT
UID:38336@agenda-zaanstreek.nl
DTSTART;TZID=Europe/Amsterdam:20250425T200000
DTEND;TZID=Europe/Amsterdam:20250425T200000
DTSTAMP:20250422T191404Z
URL:https://agenda-zaanstreek.nl/events/52178/
SUMMARY:Le Chêne et le Roseau – 21 fables de Jean de La Fontaine
DESCRIPTION:\n\n\nLe Chêne et le Roseau – 21 fables de Jean de La Fontai
 ne&nbsp\;Theater l’Ardente\, à 2 minutes de la gare de Zaandam&nbsp\;Di
 manche 4 mai – 16h00Un spectacle poétique et vivant avec Christophe Cha
 plet &amp\; Thierry Louyat.21 fables jouées et racontées avec texte\, mu
 sique et illustrations – un hommage vibrant à l’un des plus fins obse
 rvateurs de la nature humaine.&nbsp\;Billets : 15€ en prévente / 18€ 
 sur place&nbsp\;Réservez par mail : housindam@live.com\n\n\n\n\n\n\n\n\n\
 n&nbsp\;\n\n\n\n\n\n\n\n\n\n&nbsp\;\n\n
CATEGORIES:Theater
LOCATION:Theater l’Ardente\, Zeemansstraat 39 b (hoek Hazepad}\, Zaandam\
 , 1506 CT\, Nederland
X-APPLE-STRUCTURED-LOCATION;VALUE=URI;X-ADDRESS=Zeemansstraat 39 b (hoek Ha
 zepad}\, Zaandam\, 1506 CT\, Nederland;X-APPLE-RADIUS=100;X-TITLE=Theater 
 l’Ardente:geo:0,0
END:VEVENT
BEGIN:VTIMEZONE
TZID:Europe/Amsterdam
X-LIC-LOCATION:Europe/Amsterdam
BEGIN:DAYLIGHT
DTSTART:20250330T030000
TZOFFSETFROM:+0100
TZOFFSETTO:+0200
TZNAME:CEST
END:DAYLIGHT
END:VTIMEZONE
END:VCALENDAR