BEGIN:VCALENDAR
VERSION:2.0
PRODID:-//wp-events-plugin.com//7.2.3.1//EN
TZID:Europe/Amsterdam
X-WR-TIMEZONE:Europe/Amsterdam
BEGIN:VEVENT
UID:37759@agenda-zaanstreek.nl
DTSTART;TZID=Europe/Amsterdam:20250315T203000
DTEND;TZID=Europe/Amsterdam:20250315T203000
DTSTAMP:20250313T105912Z
URL:https://agenda-zaanstreek.nl/events/51476/
SUMMARY:The Covenant presenteert hun nieuwe album The Age of Rage
DESCRIPTION:The Covenant zaterdag 15 maart\n\nEigenzinnige\, wat heet \, ze
 er eigenzinnige rockband uit Amsterdam met uitsluitend eigen werk.. Door m
 uziekmagazine OOR getypeerd als de meest originele undergroundband van Ned
 erland. De officiele release is een weekje later maar nu alvast presenteer
 t The Covenant hun nieuwe album (het 9e inmiddels) The Age of Rage.\n\nKli
 k voor meer Covenant hier.
CATEGORIES:Horeca,Muziek
LOCATION:Café De Melterij\, Wandelweg 76\, Wormerveer\, 1521 AJ\, Nederlan
 d
X-APPLE-STRUCTURED-LOCATION;VALUE=URI;X-ADDRESS=Wandelweg 76\, Wormerveer\,
  1521 AJ\, Nederland;X-APPLE-RADIUS=100;X-TITLE=Café De Melterij:geo:0,0
END:VEVENT
BEGIN:VTIMEZONE
TZID:Europe/Amsterdam
X-LIC-LOCATION:Europe/Amsterdam
BEGIN:STANDARD
DTSTART:20241027T020000
TZOFFSETFROM:+0200
TZOFFSETTO:+0100
TZNAME:CET
END:STANDARD
END:VTIMEZONE
END:VCALENDAR