BEGIN:VCALENDAR
VERSION:2.0
PRODID:-//wp-events-plugin.com//7.2.3.1//EN
TZID:Europe/Amsterdam
X-WR-TIMEZONE:Europe/Amsterdam
BEGIN:VEVENT
UID:36761@agenda-zaanstreek.nl
DTSTART;TZID=Europe/Amsterdam:20250215T200000
DTEND;TZID=Europe/Amsterdam:20250215T200000
DTSTAMP:20250109T154816Z
URL:https://agenda-zaanstreek.nl/events/50247/
SUMMARY:Margriet Eshuijs Popkoor - Een Warme Winteravond
DESCRIPTION:\n\nZaterdagavond 15 februari zingt het Margriet Eshuijs Popkoo
 r in de mooie Vermaning in Wormerveer.U bent van harte welkom op deze Warm
 e Winteravond met warme en sfeervolle liedjes uit zowel oud als nieuw repe
 rtoire in de stijl en sfeer zoals Margriet Eshuijs het heeft gewild.Voor m
 eer info over het koor en tickets:&nbsp\;www.margrieteshuijspopkoor.nl&nbs
 p\;of scan de QR code.
CATEGORIES:Koren,Muziek
LOCATION:Wormerveerse Vermaning\, Zaanweg 57\, Wormerveer\, 1521 DM\, Neder
 land
X-APPLE-STRUCTURED-LOCATION;VALUE=URI;X-ADDRESS=Zaanweg 57\, Wormerveer\, 1
 521 DM\, Nederland;X-APPLE-RADIUS=100;X-TITLE=Wormerveerse Vermaning:geo:0
 ,0
END:VEVENT
BEGIN:VTIMEZONE
TZID:Europe/Amsterdam
X-LIC-LOCATION:Europe/Amsterdam
BEGIN:STANDARD
DTSTART:20241027T020000
TZOFFSETFROM:+0200
TZOFFSETTO:+0100
TZNAME:CET
END:STANDARD
END:VTIMEZONE
END:VCALENDAR