BEGIN:VCALENDAR
VERSION:2.0
PRODID:-//wp-events-plugin.com//7.2.3.1//EN
TZID:Europe/Amsterdam
X-WR-TIMEZONE:Europe/Amsterdam
BEGIN:VEVENT
UID:40072@agenda-zaanstreek.nl
DTSTART;TZID=Europe/Amsterdam:20250903T200000
DTEND;TZID=Europe/Amsterdam:20250903T210000
DTSTAMP:20250902T184948Z
URL:https://agenda-zaanstreek.nl/events/50-dansles-voor-ieder/
SUMMARY:50+ Dansles voor ieder
DESCRIPTION:\n\nDance Connects organiseert\nwekelijkse lessen hedendaagse d
 ans voor\niedereen vanaf 50 jaar oud (foto Kim Doeleman).\nIedereen kan me
 edoen\, ongeacht conditie\,\nbeperking en/of financiële situatie\; er is\
 nuitdaging voor elk niveau. Het draait niet alleen\nom pasjes leren en str
 akke choreografieën\, maar\nvooral om versterken en ontwikkelen\, danssti
 jlen\nontdekken\, plezier hebben in bewegen en\nanderen ontmoeten. De less
 en zijn op woensdag van 20 tot 21 uur in de\nVerkadefabriek van Fluxus aan
  Westzijde 168. Zie\nvoor meer informatie www.danceconnects.nl of\nneem co
 ntact op via info@danceconnects.nl of\n020-2611058.
CATEGORIES:Cursus Workshop,Dans
LOCATION:Fluxus\, centrum voor de kunsten - locatie Verkade\, Westzijde 168
 \, Zaandam\, 1506 EK\, Nederland
X-APPLE-STRUCTURED-LOCATION;VALUE=URI;X-ADDRESS=Westzijde 168\, Zaandam\, 1
 506 EK\, Nederland;X-APPLE-RADIUS=100;X-TITLE=Fluxus\, centrum voor de kun
 sten - locatie Verkade:geo:0,0
END:VEVENT
BEGIN:VTIMEZONE
TZID:Europe/Amsterdam
X-LIC-LOCATION:Europe/Amsterdam
BEGIN:DAYLIGHT
DTSTART:20250330T030000
TZOFFSETFROM:+0100
TZOFFSETTO:+0200
TZNAME:CEST
END:DAYLIGHT
END:VTIMEZONE
END:VCALENDAR