BEGIN:VCALENDAR
VERSION:2.0
PRODID:-//wp-events-plugin.com//7.2.3.1//EN
TZID:Europe/Amsterdam
X-WR-TIMEZONE:Europe/Amsterdam
BEGIN:VEVENT
UID:34757@agenda-zaanstreek.nl
DTSTART;TZID=Europe/Amsterdam:20250207T203000
DTEND;TZID=Europe/Amsterdam:20250207T203000
DTSTAMP:20240912T094126Z
URL:https://agenda-zaanstreek.nl/events/47812/
SUMMARY:Sezgin Güleç | Wild\, Barbaars & Bloeddorstig
DESCRIPTION:vrijdag 7 februari 20.30 uur\nwww.theateroostzaan.nl/7-februari
 -2025-sezgin-gulec\nDe KunstGreep\nKerkbuurt 4\n1511 BD Oostzaan\n\n\n&nbs
 p\;\n\n\n\n\n&nbsp\;\n\n\n\n\n\n\nPrijs: € 19.00 inclusief consumptie\nK
 oop tickets hier.\n\n\nWat goed is\, komt snel en dat geldt zeker voor Sez
 gin Güleç die door de Volkskrant werd uitgeroepen tot hét comedytalent 
 van 2024. Güleç\, zichzelf introducerend: “Ik heet Sezgin en ik ben de
  minst bekende gast die zit in de race om de definiërende stand-up comedi
 an van deze tijd te worden. Het was een lange weg van de diepste krochten 
 van dit land tot aan het podium en het wordt een nog langer pad van het po
 dium naar de top. Ik deel dat pad graag met je.” Sezgin groeide op in Ro
 tterdam-Zuid\, leeft totaal voor comedy en gaat risico’s niet uit de weg
 . Top-comedian Daniël Arends zag direct het grote talent in Sezgin: “Ei
 ndelijk weer eens iemand die niet op het podium staat alsof ie een 10 voor
  stand-up comedy probeert te halen\, maar er gewoon als dier staat dat doe
 t wat het moet doen. Namelijk onvoorspelbaar\, uniek\, en vooral grappig z
 ijn.”\n\n
CATEGORIES:Cabaret
LOCATION:De KunstGreep\, Kerkbuurt 4\, Oostzaan\, 1511 BD\, Nederland
X-APPLE-STRUCTURED-LOCATION;VALUE=URI;X-ADDRESS=Kerkbuurt 4\, Oostzaan\, 15
 11 BD\, Nederland;X-APPLE-RADIUS=100;X-TITLE=De KunstGreep:geo:0,0
END:VEVENT
BEGIN:VTIMEZONE
TZID:Europe/Amsterdam
X-LIC-LOCATION:Europe/Amsterdam
BEGIN:STANDARD
DTSTART:20241027T020000
TZOFFSETFROM:+0200
TZOFFSETTO:+0100
TZNAME:CET
END:STANDARD
END:VTIMEZONE
END:VCALENDAR