BEGIN:VCALENDAR
VERSION:2.0
PRODID:-//wp-events-plugin.com//7.2.3.1//EN
TZID:Europe/Amsterdam
X-WR-TIMEZONE:Europe/Amsterdam
BEGIN:VEVENT
UID:37840@agenda-zaanstreek.nl
DTSTART;TZID=Europe/Amsterdam:20250405T140000
DTEND;TZID=Europe/Amsterdam:20250405T220000
DTSTAMP:20250319T152550Z
URL:https://agenda-zaanstreek.nl/events/13e-editie-tochie-wrmrlnd/
SUMMARY:13e Editie Tochie WRMRLND
DESCRIPTION:
CATEGORIES:Horeca,Recreatiesport
LOCATION:Café Groos\, Dorpsstraat 206\, Wormer\, 1531 HS\, Nederland
X-APPLE-STRUCTURED-LOCATION;VALUE=URI;X-ADDRESS=Dorpsstraat 206\, Wormer\, 
 1531 HS\, Nederland;X-APPLE-RADIUS=100;X-TITLE=Café Groos:geo:0,0
END:VEVENT
BEGIN:VTIMEZONE
TZID:Europe/Amsterdam
X-LIC-LOCATION:Europe/Amsterdam
BEGIN:DAYLIGHT
DTSTART:20250330T030000
TZOFFSETFROM:+0100
TZOFFSETTO:+0200
TZNAME:CEST
END:DAYLIGHT
END:VTIMEZONE
END:VCALENDAR