BEGIN:VCALENDAR
VERSION:2.0
PRODID:-//wp-events-plugin.com//7.2.3.1//EN
TZID:Europe/Amsterdam
X-WR-TIMEZONE:Europe/Amsterdam
BEGIN:VEVENT
UID:35807@agenda-zaanstreek.nl
DTSTART;TZID=Europe/Amsterdam:20241115T083000
DTEND;TZID=Europe/Amsterdam:20250103T170000
DTSTAMP:20241114T104017Z
URL:https://agenda-zaanstreek.nl/events/100-jaar-samen-spelen-muziekvereni
 gingen-toen-en-nu/
SUMMARY:100 Jaar Samen Spelen - Muziekverenigingen toen en nu
DESCRIPTION:\n\nMuziekverenigingen horen bij de geschiedenis van Zaanstad. 
 Al ruim 100 jaar heeft elk dorp één of meerdere muziekverenigingen. Gene
 raties Zaankanters hebben er een instrument leren bespelen. Samen muziek m
 aken is gezellig en het verbindt mensen. Vroeger\, én nu.\nLaat u meevoer
 en door ruim honderd jaar geschiedenis van de Zaanse muziekverenigingen: b
 ij Apollo Koog-Zaandijk\, het Zaans Show Orkest\, Soli Koog-Zaandijk\, Jeu
 gdharmonie Nuevo\, ZFCZaandijk\, het Saens Harmonie Orkest Assendelft\, Fa
 nfare Onderling Genoegen Krommenie\, Harmonie Soli Zaandam en Crescendo As
 sendelft is men in de archieven gedoken. Samen met het Gemeentearchief heb
 ben zij een tentoonstelling gemaakt die het bekijken en beluisteren waard 
 is.\n\nU kunt de tentoonstelling bekijken tot en met 3 januari 2025. De op
 eningstijden van het Stadhuis zijn:\n\nMaandag\, woensdag en vrijdag van 0
 8.30 uur tot 17.00 uur\nDinsdag en donderdag van 08.30 uur tot 20.00 uur\n
 Zaterdag en zondag gesloten
CATEGORIES:Expositie
LOCATION:Gemeentehuis Zaanstad\, Stadhuisplein 100\, Zaandam\, 1506 MZ\, Ne
 derland
X-APPLE-STRUCTURED-LOCATION;VALUE=URI;X-ADDRESS=Stadhuisplein 100\, Zaandam
 \, 1506 MZ\, Nederland;X-APPLE-RADIUS=100;X-TITLE=Gemeentehuis Zaanstad:ge
 o:0,0
END:VEVENT
BEGIN:VTIMEZONE
TZID:Europe/Amsterdam
X-LIC-LOCATION:Europe/Amsterdam
BEGIN:STANDARD
DTSTART:20241027T020000
TZOFFSETFROM:+0200
TZOFFSETTO:+0100
TZNAME:CET
END:STANDARD
END:VTIMEZONE
END:VCALENDAR